BEGIN:VCALENDAR
VERSION:2.0
PRODID:-//First Pentecostal Church of Oxford - ECPv5.7.0//NONSGML v1.0//EN
CALSCALE:GREGORIAN
METHOD:PUBLISH
X-WR-CALNAME:First Pentecostal Church of Oxford
X-ORIGINAL-URL:http://oxfordpentecostals.com
X-WR-CALDESC:Events for First Pentecostal Church of Oxford
BEGIN:VTIMEZONE
TZID:America/Chicago
BEGIN:DAYLIGHT
TZOFFSETFROM:-0600
TZOFFSETTO:-0500
TZNAME:CDT
DTSTART:20190310T080000
END:DAYLIGHT
BEGIN:STANDARD
TZOFFSETFROM:-0500
TZOFFSETTO:-0600
TZNAME:CST
DTSTART:20191103T070000
END:STANDARD
END:VTIMEZONE
BEGIN:VEVENT
DTSTART;TZID=America/Chicago:20190720T190000
DTEND;TZID=America/Chicago:20190720T210000
DTSTAMP:20260422T095914
CREATED:20190710T121055Z
LAST-MODIFIED:20190710T121310Z
UID:730-1563649200-1563656400@oxfordpentecostals.com
SUMMARY:42nd Anniversary Services
DESCRIPTION:The Vanderford family came to Oxford in July 1977. \nJuly 20th and 21st we will celebrate 42 years of service to the Oxford/Lafayette/University of Mississippi community. \nSaturday\, July 20\, at 7:00 p.m. we will have singing with the Woodwards and Hannah Busby. \nSunday\, July 21\, at 10:00 a.m.\, we will again have singing with the Woodwards and Hannah Busby.  Rev. Larry Woodward\, pastor of First Pentecostal Church\, Salem\, IL will be the morning speaker. \nLooking for a great time of worship and praise for what God has done. \nPastor John Vanderford
URL:http://oxfordpentecostals.com/event/42nd-anniversary-services/
LOCATION:First Pentecostal Church\, 49 County Road 401\, Oxford\, MS\, 38655\, United States
CATEGORIES:Anniversary Services,Events
ATTACH;FMTTYPE=image/png:http://oxfordpentecostals.com/wp-content/uploads/2019/07/Vanderfords2.png
END:VEVENT
END:VCALENDAR