BEGIN:VCALENDAR
VERSION:2.0
PRODID:-//First Pentecostal Church of Oxford - ECPv5.7.0//NONSGML v1.0//EN
CALSCALE:GREGORIAN
METHOD:PUBLISH
X-WR-CALNAME:First Pentecostal Church of Oxford
X-ORIGINAL-URL:http://oxfordpentecostals.com
X-WR-CALDESC:Events for First Pentecostal Church of Oxford
BEGIN:VTIMEZONE
TZID:America/Chicago
BEGIN:DAYLIGHT
TZOFFSETFROM:-0600
TZOFFSETTO:-0500
TZNAME:CDT
DTSTART:20190310T080000
END:DAYLIGHT
BEGIN:STANDARD
TZOFFSETFROM:-0500
TZOFFSETTO:-0600
TZNAME:CST
DTSTART:20191103T070000
END:STANDARD
END:VTIMEZONE
BEGIN:VEVENT
DTSTART;TZID=America/Chicago:20190703T190000
DTEND;TZID=America/Chicago:20190703T210000
DTSTAMP:20260422T045447
CREATED:20190613T030558Z
LAST-MODIFIED:20190613T031829Z
UID:708-1562180400-1562187600@oxfordpentecostals.com
SUMMARY:The Apostles' Doctrine Week 2
DESCRIPTION:FOUR WEEKS OF LIFE-CHANGING BIBLE STUDY\nTeachings of the Apostles During the Church’s First 100 Years \n1. Introduction:  Warning Not to Lose the Doctrine\nWednesday\, June 26\, 2019\, 7 p.m.\nBeloved\, when I gave all diligence to write unto you of the common salvation\, it was needful for me to write unto you\, and exhort you that ye should earnestly contend for the faith which was once delivered unto the saints.  Jude 1:3 \n2. Repentance:  The Pathway to Salvation\nWednesday\, July 3\, 2019\, 7 p.m.\nAnd that repentance and remission of sins should be preached in his name among all nations\, beginning at Jerusalem.  Luke 24:47 \n3.  Water and Spirit Baptism\nWednesday\, July 10\, 2019\, 7 p.m.\nBible answers as to why the apostles baptized in Jesus’ name. \nThen Peter said unto them\, Repent\, and be baptized every one of you in the name of Jesus Christ for the remission of sins\, and ye shall receive the gift of the Holy Ghost.  Acts 2:38 \n4.  Greatest Theme of the Bible from Genesis to Revelation:  The Oneness of God\nWednesday\, July 17\, 2019\, 7 p.m.\nAnd without controversy great is the mystery of godliness:  God was manifest in the flesh\, justified in the Spirit\, seen of angels\, preached unto the Gentiles\, believed on in the world\, received up into glory.  1 Timothy 3:16 \nRSVP for Printed Materials (662) 234-1553; (662) 801-2331\n 
URL:http://oxfordpentecostals.com/event/the-apostles-doctrine-2/
LOCATION:First Pentecostal Church\, 49 County Road 401\, Oxford\, MS\, 38655\, United States
CATEGORIES:Bible Study,Events
ATTACH;FMTTYPE=image/png:http://oxfordpentecostals.com/wp-content/uploads/2019/06/Apostles-Doctrine-1.png
END:VEVENT
BEGIN:VEVENT
DTSTART;TZID=America/Chicago:20190710T190000
DTEND;TZID=America/Chicago:20190710T210000
DTSTAMP:20260422T045447
CREATED:20190613T031106Z
LAST-MODIFIED:20190613T031920Z
UID:713-1562785200-1562792400@oxfordpentecostals.com
SUMMARY:The Apostles' Doctrine Week 3
DESCRIPTION:FOUR WEEKS OF LIFE-CHANGING BIBLE STUDY\nTeachings of the Apostles During the Church’s First 100 Years \n1. Introduction:  Warning Not to Lose the Doctrine\nWednesday\, June 26\, 2019\, 7 p.m.\nBeloved\, when I gave all diligence to write unto you of the common salvation\, it was needful for me to write unto you\, and exhort you that ye should earnestly contend for the faith which was once delivered unto the saints.  Jude 1:3 \n2. Repentance:  The Pathway to Salvation\nWednesday\, July 3\, 2019\, 7 p.m.\nAnd that repentance and remission of sins should be preached in his name among all nations\, beginning at Jerusalem.  Luke 24:47 \n3.  Water and Spirit Baptism\nWednesday\, July 10\, 2019\, 7 p.m.\nBible answers as to why the apostles baptized in Jesus’ name. \nThen Peter said unto them\, Repent\, and be baptized every one of you in the name of Jesus Christ for the remission of sins\, and ye shall receive the gift of the Holy Ghost.  Acts 2:38 \n4.  Greatest Theme of the Bible from Genesis to Revelation:  The Oneness of God\nWednesday\, July 17\, 2019\, 7 p.m.\nAnd without controversy great is the mystery of godliness:  God was manifest in the flesh\, justified in the Spirit\, seen of angels\, preached unto the Gentiles\, believed on in the world\, received up into glory.  1 Timothy 3:16 \nRSVP for Printed Materials (662) 234-1553; (662) 801-2331\n 
URL:http://oxfordpentecostals.com/event/the-apostles-doctrine-3/
LOCATION:First Pentecostal Church\, 49 County Road 401\, Oxford\, MS\, 38655\, United States
CATEGORIES:Bible Study,Events
ATTACH;FMTTYPE=image/png:http://oxfordpentecostals.com/wp-content/uploads/2019/06/Apostles-Doctrine-1.png
END:VEVENT
BEGIN:VEVENT
DTSTART;TZID=America/Chicago:20190717T190000
DTEND;TZID=America/Chicago:20190717T210000
DTSTAMP:20260422T045447
CREATED:20190613T031307Z
LAST-MODIFIED:20190613T032035Z
UID:715-1563390000-1563397200@oxfordpentecostals.com
SUMMARY:The Apostles' Doctrine Week 4
DESCRIPTION:FOUR WEEKS OF LIFE-CHANGING BIBLE STUDY\nTeachings of the Apostles During the Church’s First 100 Years \n1. Introduction:  Warning Not to Lose the Doctrine\nWednesday\, June 26\, 2019\, 7 p.m.\nBeloved\, when I gave all diligence to write unto you of the common salvation\, it was needful for me to write unto you\, and exhort you that ye should earnestly contend for the faith which was once delivered unto the saints.  Jude 1:3 \n2. Repentance:  The Pathway to Salvation\nWednesday\, July 3\, 2019\, 7 p.m.\nAnd that repentance and remission of sins should be preached in his name among all nations\, beginning at Jerusalem.  Luke 24:47 \n3.  Water and Spirit Baptism\nWednesday\, July 10\, 2019\, 7 p.m.\nBible answers as to why the apostles baptized in Jesus’ name. \nThen Peter said unto them\, Repent\, and be baptized every one of you in the name of Jesus Christ for the remission of sins\, and ye shall receive the gift of the Holy Ghost.  Acts 2:38 \n4.  Greatest Theme of the Bible from Genesis to Revelation:  The Oneness of God\nWednesday\, July 17\, 2019\, 7 p.m.\nAnd without controversy great is the mystery of godliness:  God was manifest in the flesh\, justified in the Spirit\, seen of angels\, preached unto the Gentiles\, believed on in the world\, received up into glory.  1 Timothy 3:16 \nRSVP for Printed Materials (662) 234-1553; (662) 801-2331\n 
URL:http://oxfordpentecostals.com/event/the-apostles-doctrine-week-4/
LOCATION:First Pentecostal Church\, 49 County Road 401\, Oxford\, MS\, 38655\, United States
CATEGORIES:Bible Study,Events
ATTACH;FMTTYPE=image/png:http://oxfordpentecostals.com/wp-content/uploads/2019/06/Apostles-Doctrine-1.png
END:VEVENT
BEGIN:VEVENT
DTSTART;TZID=America/Chicago:20190720T190000
DTEND;TZID=America/Chicago:20190720T210000
DTSTAMP:20260422T045447
CREATED:20190710T121055Z
LAST-MODIFIED:20190710T121310Z
UID:730-1563649200-1563656400@oxfordpentecostals.com
SUMMARY:42nd Anniversary Services
DESCRIPTION:The Vanderford family came to Oxford in July 1977. \nJuly 20th and 21st we will celebrate 42 years of service to the Oxford/Lafayette/University of Mississippi community. \nSaturday\, July 20\, at 7:00 p.m. we will have singing with the Woodwards and Hannah Busby. \nSunday\, July 21\, at 10:00 a.m.\, we will again have singing with the Woodwards and Hannah Busby.  Rev. Larry Woodward\, pastor of First Pentecostal Church\, Salem\, IL will be the morning speaker. \nLooking for a great time of worship and praise for what God has done. \nPastor John Vanderford
URL:http://oxfordpentecostals.com/event/42nd-anniversary-services/
LOCATION:First Pentecostal Church\, 49 County Road 401\, Oxford\, MS\, 38655\, United States
CATEGORIES:Anniversary Services,Events
ATTACH;FMTTYPE=image/png:http://oxfordpentecostals.com/wp-content/uploads/2019/07/Vanderfords2.png
END:VEVENT
BEGIN:VEVENT
DTSTART;TZID=America/Chicago:20190721T100000
DTEND;TZID=America/Chicago:20190721T120000
DTSTAMP:20260422T045447
CREATED:20190710T120801Z
LAST-MODIFIED:20190710T120913Z
UID:726-1563703200-1563710400@oxfordpentecostals.com
SUMMARY:42nd Anniversary Services
DESCRIPTION:The Vanderford family came to Oxford in July 1977. \nJuly 20th and 21st we will celebrate 42 years of service to the Oxford/Lafayette/University of Mississippi community. \nSaturday\, July 20\, at 7:00 p.m. we will have singing with the Woodwards and Hannah Busby. \nSunday\, July 21\, at 10:00 a.m.\, we will again have singing with the Woodwards and Hannah Busby.  Rev. Larry Woodward\, pastor of First Pentecostal Church\, Salem\, IL will be the morning speaker. \nLooking for a great time of worship and praise for what God has done. \nPastor John Vanderford
URL:http://oxfordpentecostals.com/event/42nd-anniversary-services2/
LOCATION:First Pentecostal Church\, 49 County Road 401\, Oxford\, MS\, 38655\, United States
CATEGORIES:Anniversary Services,Events
ATTACH;FMTTYPE=image/png:http://oxfordpentecostals.com/wp-content/uploads/2019/07/Vanderfords2.png
END:VEVENT
END:VCALENDAR